BEGIN:VCALENDAR
VERSION:2.0
PRODID:-//ChamberMaster//Event Calendar 2.0//EN
METHOD:PUBLISH
X-PUBLISHED-TTL:P3D
REFRESH-INTERVAL:P3D
CALSCALE:GREGORIAN
BEGIN:VEVENT
DTSTART:20150926T130000Z
DTEND:20150926T173000Z
X-MICROSOFT-CDO-ALLDAYEVENT:FALSE
SUMMARY:Elkhorn Farm Market
DESCRIPTION:Farm market where "local" produce is sold\, along with food and crafts .
X-ALT-DESC;FMTTYPE=text/html:Farm market where &quot\;local&quot\; produce is sold\, along with food and crafts .
LOCATION:Veterans Park ~ 100 West Walworth Street East side of Veterans Park along Wisconsin Street
UID:e.2059.1572
SEQUENCE:3
DTSTAMP:20260424T141953Z
URL:https://business.elkhornchamber.com/events/details/elkhorn-farm-market-09-26-2015-1572
END:VEVENT

END:VCALENDAR
