BEGIN:VCALENDAR
VERSION:2.0
PRODID:-//ChamberMaster//Event Calendar 2.0//EN
METHOD:PUBLISH
X-PUBLISHED-TTL:P3D
REFRESH-INTERVAL:P3D
CALSCALE:GREGORIAN
BEGIN:VEVENT
DTSTART:20181212T140000Z
DTEND:20181212T150000Z
X-MICROSOFT-CDO-ALLDAYEVENT:FALSE
SUMMARY:Elkhorn Community Business Connection Group
DESCRIPTION:Our New networking group called \n\n" Elkhorn Community Business Connection Group" \n\nis a non-compete group that will meet \n\nevery 2nd and 4th Wednesday of the month at 8:00am\, in our Conference Room at the\n\nElkhorn Chamber. \n\nMeetings will last no more than one hour.   \n\n \n\nGoals of our Group: \n\n*Network\n\n*Offer Business Referrals\n\n*Make Connections between Members\n\n*Branch out your Ideas\n\n*Feature one Member at each Meeting
X-ALT-DESC;FMTTYPE=text/html:<div>\n<div class="galileo-ap-content-editor aloha-editable" id="02cc85f8-a56e-aa12-f21e-2f99aed41ad5">\n<p style="margin:0\;padding:0\;font-family: georgia\; font-size: 14pt\; overflow-wrap: break-word\;"><font face="georgia" size="4"><span style="color: #000000\; font-size: 20px\; font-weight: bold\;">Our New networking group called </span></font></p>\n\n<p style="margin:0\;padding:0\;font-family: georgia\; font-size: 14pt\; overflow-wrap: break-word\;"><font face="georgia" size="4"><span style="color: #000000\; font-size: 20px\; font-weight: bold\;">&quot\; Elkhorn Community Business Connection Group&quot\; </span></font></p>\n\n<p style="margin:0\;padding:0\;font-family: georgia\; font-size: 14pt\; overflow-wrap: break-word\;"><font face="georgia" size="4"><span style="color: #000000\; font-size: 20px\; font-weight: bold\;">is a non-compete group that will meet </span></font></p>\n\n<p style="margin:0\;padding:0\;font-family: georgia\; font-size: 14pt\; overflow-wrap: break-word\;"><font face="georgia" size="4"><span style="color: #000000\; font-size: 20px\; font-weight: bold\;">every <span style="font-size: 24px\;">2nd</span> and <span style="font-size: 24px\;">4th Wednesday</span> of the month at <span style="font-size: 24px\;">8:00am</span>\, </span><span style="color: #000000\; font-size: 20px\; font-weight: bold\;">in our Conference Room at the</span></font></p>\n\n<p style="margin:0\;padding:0\;font-family: georgia\; font-size: 14pt\; overflow-wrap: break-word\;"><font face="georgia" size="4"><span style="color: #000000\; font-size: 20px\; font-weight: bold\;">Elkhorn Chamber.&nbsp\;</span></font></p>\n\n<p style="margin:0\;padding:0\;font-family: georgia\; font-size: 14pt\; overflow-wrap: break-word\;"><font face="georgia" size="4"><span style="color: #000000\; font-size: 20px\; font-weight: bold\;">Meetings will last no more than one hour.&nbsp\; &nbsp\;</span></font></p>\n\n<p style="margin:0\;padding:0\;font-family: georgia\; font-size: 14pt\; overflow-wrap: break-word\;"><font face="georgia" size="4">&nbsp\;</font></p>\n\n<p style="margin:0\;padding:0\;font-family: georgia\; font-size: 14pt\; overflow-wrap: break-word\;"><font face="georgia" size="4"><span style="color: #000000\; font-size: 20px\; font-weight: bold\;">Goals of our Group: </span></font></p>\n\n<p style="margin:0\;padding:0\;font-family: georgia\; font-size: 14pt\; overflow-wrap: break-word\;"><font face="georgia" size="4"><span style="color: #000000\; font-size: 20px\; font-weight: bold\;">*Network</span></font></p>\n\n<p style="margin:0\;padding:0\;font-family: georgia\; font-size: 14pt\; overflow-wrap: break-word\;"><font face="georgia" size="4"><span style="color: #000000\; font-size: 20px\; font-weight: bold\;">*Offer Business Referrals</span></font></p>\n\n<p style="margin:0\;padding:0\;font-family: georgia\; font-size: 14pt\; overflow-wrap: break-word\;"><font face="georgia" size="4"><span style="color: #000000\; font-size: 20px\; font-weight: bold\;">*Make Connections between Members</span></font></p>\n\n<p style="margin:0\;padding:0\;font-family: georgia\; font-size: 14pt\; overflow-wrap: break-word\;"><font face="georgia" size="4"><span style="color: #000000\; font-size: 20px\; font-weight: bold\;">*Branch out your Ideas</span></font></p>\n\n<p style="margin:0\;padding:0\;font-family: georgia\; font-size: 14pt\; overflow-wrap: break-word\;"><font face="georgia" size="4"><span style="color: #000000\; font-size: 20px\; font-weight: bold\;">*Feature one Member at each Meeting</span></font></p>\n</div>\n</div>\n
LOCATION:Elkhorn Chamber of Commerce & Tourism Center 203 E. Walworth Street Elkhorn\, WI 53121
UID:e.2059.5922
SEQUENCE:3
DTSTAMP:20260421T204543Z
URL:https://business.elkhornchamber.com/events/details/elkhorn-community-business-connection-group-12-12-2018-5922
END:VEVENT

END:VCALENDAR
