BEGIN:VCALENDAR
VERSION:2.0
PRODID:-//ChamberMaster//Event Calendar 2.0//EN
METHOD:PUBLISH
X-PUBLISHED-TTL:P3D
REFRESH-INTERVAL:P3D
CALSCALE:GREGORIAN
BEGIN:VEVENT
DTSTART:20151012T150000Z
DTEND:20151012T200000Z
X-MICROSOFT-CDO-ALLDAYEVENT:FALSE
SUMMARY:Elkhorn Community Blood Drive
DESCRIPTION:The need is constant. The gratification is instant. Give Blood.\n\nElkhorn is holding a Community Blood Drive.
X-ALT-DESC;FMTTYPE=text/html:The need is constant. The gratification is instant. Give Blood.<br />\nElkhorn is holding a Community Blood Drive.
LOCATION:Sunset Park Rec Building Multi-Purpose Room 200 Devendorf St Elkhorn\, WI
UID:e.2059.1730
SEQUENCE:3
DTSTAMP:20260424T124248Z
URL:https://business.elkhornchamber.com/events/details/elkhorn-community-blood-drive-10-12-2015-1730
END:VEVENT

END:VCALENDAR
