BEGIN:VCALENDAR
VERSION:2.0
PRODID:-//ChamberMaster//Event Calendar 2.0//EN
METHOD:PUBLISH
X-PUBLISHED-TTL:P3D
REFRESH-INTERVAL:P3D
CALSCALE:GREGORIAN
BEGIN:VEVENT
DTSTART:20150822T170000Z
DTEND:20150822T170000Z
X-MICROSOFT-CDO-ALLDAYEVENT:FALSE
SUMMARY:Elkhorn Color Dash 5K
DESCRIPTION:? Refuge on the Mountain Ministry is excited to present the Revive the Hope Color Dash & Concert Tour Coming August 22 to the Walworth Fairgrounds in Elkhorn Wisconsin. ? Join us for a day of colorful fun\, family\, friends and worship to Revive the hope for the kids that experience hunger on a daily basis. ? Go to refugeonthemountain.org and go to the coming up section to register for the event\, purchase tickets for concert or to donate. Or sign up at cd5k.com and click on Elkhorn\, WI ? Proceeds go to Feeding America Eastern Wisconsin & Greater Chicago Food Depository. ? Performing --- Group 1 Crew\; JJ Weeks Band\; Abandon\; OBB\, ShineBright\, Jonny Diaz\, Jay Hagy\, Waiting Hill as they Inspire and communicate the Purpose\, Hope and Love that is in Jesus Christ through their music. ? Hunger is a national problem. The Feeding America network of food banks provides service to 46.5 million people in need across the United States\, including 12 million children and 7 million seniors. ? Revive the Hope Concert Tour supports the local food banks and the families in the community where each event is held. Group discounts for churches and businesses that sign up. ? www.cd5k.com ? Revive the Hope Color Dash & Concert Tour Coming August 22 to the Walworth Fairgrounds in Elkhorn Wisconsin.
X-ALT-DESC;FMTTYPE=text/html:? Refuge on the Mountain Ministry is excited to present the Revive the Hope Color Dash &amp\; Concert Tour Coming August 22 to the Walworth Fairgrounds in Elkhorn Wisconsin. ? Join us for a day of colorful fun\, family\, friends and worship to Revive the hope for the kids that experience hunger on a daily basis. ? Go to refugeonthemountain.org and go to the coming up section to register for the event\, purchase tickets for concert or to donate. Or sign up at cd5k.com and click on Elkhorn\, WI ? Proceeds go to Feeding America Eastern Wisconsin &amp\; Greater Chicago Food Depository. ? Performing --- Group 1 Crew\; JJ Weeks Band\; Abandon\; OBB\, ShineBright\, Jonny Diaz\, Jay Hagy\, Waiting Hill as they Inspire and communicate the Purpose\, Hope and Love that is in Jesus Christ through their music. ? Hunger is a national problem. The Feeding America network of food banks provides service to 46.5 million people in need across the United States\, including 12 million children and 7 million seniors. ? Revive the Hope Concert Tour supports the local food banks and the families in the community where each event is held. Group discounts for churches and businesses that sign up. ? www.cd5k.com ? Revive the Hope Color Dash &amp\; Concert Tour Coming August 22 to the Walworth Fairgrounds in Elkhorn Wisconsin.
LOCATION:Walworth Fairgrounds
UID:e.2059.1645
SEQUENCE:3
DTSTAMP:20260424T161151Z
URL:https://business.elkhornchamber.com/events/details/elkhorn-color-dash-5k-08-22-2015-1645
END:VEVENT

END:VCALENDAR
