BEGIN:VCALENDAR
VERSION:2.0
PRODID:-//ChamberMaster//Event Calendar 2.0//EN
METHOD:PUBLISH
X-PUBLISHED-TTL:P3D
REFRESH-INTERVAL:P3D
CALSCALE:GREGORIAN
BEGIN:VEVENT
DTSTART:20171002T230000Z
DTEND:20171003T000000Z
X-MICROSOFT-CDO-ALLDAYEVENT:FALSE
SUMMARY:Elkhorn Area School District Board Meeting
DESCRIPTION:
X-ALT-DESC;FMTTYPE=text/html:
LOCATION:1887 Administrative Services Building
UID:e.2059.5687
SEQUENCE:3
DTSTAMP:20260422T214925Z
URL:https://business.elkhornchamber.com/events/details/elkhorn-area-school-district-board-meeting-10-02-2017-5687
END:VEVENT

END:VCALENDAR
