BEGIN:VCALENDAR
VERSION:2.0
PRODID:-//ChamberMaster//Event Calendar 2.0//EN
METHOD:PUBLISH
X-PUBLISHED-TTL:P3D
REFRESH-INTERVAL:P3D
CALSCALE:GREGORIAN
BEGIN:VEVENT
DTSTART:20170828T210000Z
DTEND:20170829T000000Z
X-MICROSOFT-CDO-ALLDAYEVENT:FALSE
SUMMARY:Elkhorn Area Middle School Open House 7/8th Grade
DESCRIPTION:
X-ALT-DESC;FMTTYPE=text/html:
LOCATION:
UID:e.2059.5501
SEQUENCE:3
DTSTAMP:20260423T011618Z
URL:https://business.elkhornchamber.com/events/details/elkhorn-area-middle-school-open-house-7-8th-grade-5501
END:VEVENT

END:VCALENDAR
