BEGIN:VCALENDAR
VERSION:2.0
PRODID:-//ChamberMaster//Event Calendar 2.0//EN
METHOD:PUBLISH
X-PUBLISHED-TTL:P3D
REFRESH-INTERVAL:P3D
CALSCALE:GREGORIAN
BEGIN:VEVENT
DTSTART:20170828T220000Z
DTEND:20170829T010000Z
X-MICROSOFT-CDO-ALLDAYEVENT:FALSE
SUMMARY:Elkhorn Area High School Back to School Night
DESCRIPTION:All grades. Pictures for students ID's will be taken.
X-ALT-DESC;FMTTYPE=text/html:All grades. Pictures for students ID&#39\;s will be taken.
LOCATION:
UID:e.2059.5502
SEQUENCE:3
DTSTAMP:20260423T011702Z
URL:https://business.elkhornchamber.com/events/details/elkhorn-area-high-school-back-to-school-night-5502
END:VEVENT

END:VCALENDAR
