BEGIN:VCALENDAR
VERSION:2.0
PRODID:-//ChamberMaster//Event Calendar 2.0//EN
METHOD:PUBLISH
X-PUBLISHED-TTL:P3D
REFRESH-INTERVAL:P3D
CALSCALE:GREGORIAN
BEGIN:VEVENT
DTSTART:20170616T163000Z
DTEND:20170617T010000Z
X-MICROSOFT-CDO-ALLDAYEVENT:FALSE
SUMMARY:Elkhorn Area High School All Sports Booster Club Golf Outing
DESCRIPTION:Elkhorn Area High School in partnership with Rotary Club of Elkhorn is hosting their All Sports Booster Club Golf Outing & Steak Dinner. You will receive your box lunch at registration which begins at 11:a.m.12:15pm.\n\nShotgun start to follow at 12:30pm with the steak dinner and awards to immediately follow. The day includes 18 Holes of golf\, Special event holes\, Silent Auction\, Raffle Prizes\, Box Lunch and a Steak Dinner!
X-ALT-DESC;FMTTYPE=text/html:Elkhorn Area High School in partnership with Rotary Club of Elkhorn is hosting their All Sports Booster Club Golf Outing &amp\; Steak Dinner. You will receive your box lunch at registration which begins at 11:a.m.12:15pm.<br />\nShotgun start to follow at 12:30pm with the steak dinner and awards to immediately follow. The day includes 18 Holes of golf\, Special event holes\, Silent Auction\, Raffle Prizes\, Box Lunch and a Steak Dinner!
LOCATION:Evergreen Country Club
UID:e.2059.4753
SEQUENCE:3
DTSTAMP:20260423T061512Z
URL:https://business.elkhornchamber.com/events/details/elkhorn-area-high-school-all-sports-booster-club-golf-outing-4753
END:VEVENT

END:VCALENDAR
