BEGIN:VCALENDAR
VERSION:2.0
PRODID:-//ChamberMaster//Event Calendar 2.0//EN
METHOD:PUBLISH
X-PUBLISHED-TTL:P3D
REFRESH-INTERVAL:P3D
CALSCALE:GREGORIAN
BEGIN:VEVENT
DTSTART:20170616T163000Z
DTEND:20170616T163000Z
X-MICROSOFT-CDO-ALLDAYEVENT:FALSE
SUMMARY:Elkhorn Area High School All Sports Booster Club Golf
DESCRIPTION:Elkhorn Area High School All Sports Booster Club Golf Outing in partnership with the Elkhorn Rotary Club. The day includes 18 holes of golf\, special event holes\, a silent auction\, raffle prizes\, boxed lunch and a steak dinner.
X-ALT-DESC;FMTTYPE=text/html:Elkhorn Area High School All Sports Booster Club Golf Outing in partnership with the Elkhorn Rotary Club. The day includes 18 holes of golf\, special event holes\, a silent auction\, raffle prizes\, boxed lunch and a steak dinner.
LOCATION:Evergreen Country Club N6246 Highway 12\, Elkhorn\, WI
UID:e.2059.4699
SEQUENCE:3
DTSTAMP:20260423T042305Z
URL:https://business.elkhornchamber.com/events/details/elkhorn-area-high-school-all-sports-booster-club-golf-4699
END:VEVENT

END:VCALENDAR
