BEGIN:VCALENDAR
VERSION:2.0
PRODID:-//ChamberMaster//Event Calendar 2.0//EN
METHOD:PUBLISH
X-PUBLISHED-TTL:P3D
REFRESH-INTERVAL:P3D
CALSCALE:GREGORIAN
BEGIN:VEVENT
DTSTART:20170706T233000Z
DTEND:20170707T010000Z
X-MICROSOFT-CDO-ALLDAYEVENT:FALSE
SUMMARY:Elkhorn: A Walking Tour Through Time
DESCRIPTION:Join UW Extension educator Amanda Kostman for a walking tour through Elkhorn's history. Weather permitting\, we'll begin at the library and walk to some of Elkhorn's most historic buildings and homes while Amanda shares anecdotes from our city's past. This is a casual\, low-impact walk\, but please wear appropriate clothing and walking shoes! \n\nAs part of our Adult Summer Reading Program\, all attendees will receive an entry into our end-of-summer grand prize drawing!
X-ALT-DESC;FMTTYPE=text/html:<p>Join UW Extension educator Amanda Kostman for a walking tour through Elkhorn&#39\;s history. Weather permitting\, we&#39\;ll begin at the library and walk to some of Elkhorn&#39\;s most historic buildings and homes while Amanda shares anecdotes from our city&#39\;s past. This is a casual\, low-impact walk\, but please wear appropriate clothing and walking shoes!&nbsp\;</p>\n\n<p>As part of our Adult Summer Reading Program\, all attendees will receive an entry into our end-of-summer grand prize drawing!</p>\n
LOCATION:101 N. Wisconsin St Elkhorn\, WI
UID:e.2059.5217
SEQUENCE:3
DTSTAMP:20260423T030737Z
URL:https://business.elkhornchamber.com/events/details/elkhorn-a-walking-tour-through-time-5217
END:VEVENT

END:VCALENDAR
