BEGIN:VCALENDAR
VERSION:2.0
PRODID:-//ChamberMaster//Event Calendar 2.0//EN
METHOD:PUBLISH
X-PUBLISHED-TTL:P3D
REFRESH-INTERVAL:P3D
CALSCALE:GREGORIAN
BEGIN:VEVENT
DTSTART:20151121T003000Z
DTEND:20151121T003000Z
X-MICROSOFT-CDO-ALLDAYEVENT:FALSE
SUMMARY:Electric Chair Playhouse Event
DESCRIPTION:Eclectic Chair Playhouse Event.\n\nNew York City playwright/actress\, Susan Stein\, will perform excerpts from her one woman show\, "Etty" at Ye Olde Manor House Bed and Breakfast on November 20th at   6:30 pm.  The play is directed by Austin Pendleton (Finding Nemo\, My Cousin Vinny\, Guarding Tess\, and Steppenwolf).  "Etty" brings the audience into the life and thought of Etty Hillesum\, a young woman in Holland who was committed to sustaining humanity in the face of Nazi brutality.  It is a moving testament to the triumph of the human spirit. \n\n \n\nMs. Stein has performed the play in theaters around the world and in public schools\, assisted living facilities\, and prisons where she also conducts writing workshops. The play and workshops have proven to be vehicles for discussions about confinement\, race\, gender and resistance\, encouraging the audience to open their minds to different perspectives. As Kayla\, a high school student\, wrote to Susan after seeing the play: \n\n" There are very few points in a person's life where there is a moment or memory that they will remember as long as they live.  If it is just one line of a book\, a poem or a play.  Just one scene or picture that will change them.  These moments shatter then rebuild our perspectives I am happy to say that watching you perform Etty was one of those moments for me."\n\nIn addition to the performance\, Susan will discuss and answer questions about her project taking the play to and conducting writing workshops in schools and prisons.
X-ALT-DESC;FMTTYPE=text/html:<strong><span style="color:#141823\;"><span style="font-family:esenin script one\;"><span style="font-size:20.0pt\;">Eclectic Chair Playhouse Event</span></span></span></strong><span style="color:#141823\;"><span style="font-size:20.0pt\;">.</span></span><br />\n<span style="color:black\;"><span style="font-family:garamond\,serif\;"><span style="font-size:12.0pt\;">New York City playwright/actress\, Susan Stein\, will perform excerpts from her one woman show\, &ldquo\;Etty&rdquo\; at Ye Olde Manor House Bed and Breakfast on November 20th at&nbsp\; </span></span></span><span style="color:black\;"><span style="font-family:times new roman\,serif\;"><span style="font-size:12.0pt\;">&#8203\;</span></span></span><span style="color:black\;"><span style="font-family:garamond\,serif\;"><span style="font-size:12.0pt\;">6:30 pm.&nbsp\; The play is directed by Austin Pendleton (Finding Nemo\, My Cousin Vinny\, Guarding Tess\, and Steppenwolf).&nbsp\; </span></span></span><span style="font-family:garamond\,serif\;"><span style="font-size:12.0pt\;">&quot\;Etty&quot\; brings the audience into the life and thought of Etty Hillesum\, a young woman in Holland who was committed to sustaining humanity in the face of Nazi brutality.&nbsp\; It is a moving testament to the triumph of the human spirit. </span></span><br />\n&nbsp\;<br />\n<span style="font-family:garamond\,serif\;"><span style="font-size:12.0pt\;">Ms. Stein has performed the play in theaters around the world and in public schools\, assisted living facilities\, and prisons where she also conducts writing workshops. <span style="color:black\;">The play and workshops have proven to be </span>vehicles for discussions about confinement\, race\, gender and resistance\, encouraging the audience to open their minds to different perspectives. </span></span><span style="color:#141823\;"><span style="font-family:garamond\,serif\;"><span style="font-size:12.0pt\;">As Kayla\, a high school student\, wrote to Susan after seeing the play: </span></span></span><br />\n<span style="color:#141823\;"><span style="font-family:garamond\,serif\;"><span style="font-size:12.0pt\;">&ldquo\;&hellip\;There are very few points in a person&rsquo\;s life where there is a moment or memory that they will remember as long as they live.&nbsp\; If it is just one line of a book\, a poem or a play.&nbsp\; Just one scene or picture that will change them.&nbsp\; These moments shatter then rebuild our perspectives&hellip\;I am happy to say that watching you perform Etty was one of those moments for me.&rdquo\;</span></span></span><br />\n<span style="color:black\;"><span style="font-family:garamond\,serif\;"><span style="font-size:12.0pt\;">In addition to the performance\, Susan will discuss and answer questions about her project taking the play to and conducting writing workshops in schools and prisons.&nbsp\;</span></span></span>
LOCATION:Ye Olde Manor House N7622 US Hwy 12 Elkhorn\, WI 53121
UID:e.2059.1838
SEQUENCE:3
DTSTAMP:20260424T124421Z
URL:https://business.elkhornchamber.com/events/details/electric-chair-playhouse-event-11-20-2015-1838
END:VEVENT

END:VCALENDAR
