BEGIN:VCALENDAR
VERSION:2.0
PRODID:-//ChamberMaster//Event Calendar 2.0//EN
METHOD:PUBLISH
X-PUBLISHED-TTL:P3D
REFRESH-INTERVAL:P3D
CALSCALE:GREGORIAN
BEGIN:VEVENT
DTSTART:20160319T150000Z
DTEND:20160319T150000Z
X-MICROSOFT-CDO-ALLDAYEVENT:FALSE
SUMMARY:Easter Egg Hunt
DESCRIPTION:Join us on March 19th for an Easter Egg Hunt! All are welcome for this free event! The egg hunt is intended for children ages infant through 10. It will be held outside on the lawn surrounding our playground area starting at 10am. In case of inclement weather the hunt will be moved indoors. Then come inside for more Easter fun! There will be food and drink available\, as well as crafts\, games\, and other Easter activities. If you have any questions about this event contact our school office at 262-723-1091.\n\nWe hope to see you there!
X-ALT-DESC;FMTTYPE=text/html:<p>Join us on March 19th for an Easter Egg Hunt! All are welcome for this free event! The egg hunt is intended for children ages infant through 10. It will be held outside on the lawn surrounding our playground area starting at 10am. In case of inclement weather the hunt will be moved indoors. Then come inside for more Easter fun! There will be food and drink available\, as well as crafts\, games\, and other Easter activities. If you have any questions about this event contact our school office at 262-723-1091.</p>\n\n<p>We hope to see you there!</p>\n
LOCATION:First Lutheran Evangelical Church 415 Devendorf St. Elkhorn\, WI
UID:e.2059.2092
SEQUENCE:3
DTSTAMP:20260424T044510Z
URL:https://business.elkhornchamber.com/events/details/easter-egg-hunt-03-19-2016-2092
END:VEVENT

END:VCALENDAR
