BEGIN:VCALENDAR
VERSION:2.0
PRODID:-//ChamberMaster//Event Calendar 2.0//EN
METHOD:PUBLISH
X-PUBLISHED-TTL:P3D
REFRESH-INTERVAL:P3D
CALSCALE:GREGORIAN
BEGIN:VEVENT
DTSTART:20180401T140000Z
DTEND:20180401T190000Z
X-MICROSOFT-CDO-ALLDAYEVENT:FALSE
SUMMARY:Easter Brunch Buffet at Evergreen Country Club
DESCRIPTION:Pull up a seat and join us for Easter Sunday Brunch at Evergreen Country Club\, Sunday\, April 1st!\n\nThere will be something for everyone in the family when you walk through our Buffet\, Pasta Station and Omelet Station. We will be seating from 9am until 2pm. Reservations are suggested.\n\nOur Buffet will consist of :\n\nOmelet Station: Any way you like it\n\nPasta Station: Always a Hit\n\nToffee Rum Glazed Ham\n\nScrambled Eggs\n\nBiscuits & Gravy\n\nHash Brown Potatoes\n\nApplewood smoked bacon\n\nMaple syrup sausage links\n\nTexas style French Toast w/ toppings\n\nSliced Roast Beef\n\nCranberry Ginger Pork Loin\n\nMashed Potatoes & Gravy\n\nAssorted Salads & Fresh Fruit\n\nAn extensive array of Sweets & Desserts\n\nBeverage included: coffee\, tea\, milk\, or juice
X-ALT-DESC;FMTTYPE=text/html:Pull up a seat and join us for Easter Sunday Brunch at Evergreen Country Club\, Sunday\, April 1st!<br />\nThere will be something for everyone in the family when you walk through our Buffet\, Pasta Station and Omelet Station. We will be seating from 9am until 2pm. Reservations are suggested.<br />\nOur Buffet will consist of :<br />\nOmelet Station: Any way you like it<br />\nPasta Station: Always a Hit<br />\nToffee Rum Glazed Ham<br />\nScrambled Eggs<br />\nBiscuits &amp\; Gravy<br />\nHash Brown Potatoes<br />\nApplewood smoked bacon<br />\nMaple syrup sausage links<br />\nTexas style French Toast w/ toppings<br />\nSliced Roast Beef<br />\nCranberry Ginger Pork Loin<br />\nMashed Potatoes &amp\; Gravy<br />\nAssorted Salads &amp\; Fresh Fruit<br />\nAn extensive array of Sweets &amp\; Desserts<br />\nBeverage included: coffee\, tea\, milk\, or juice<br />\n&nbsp\;
LOCATION:Evergreen Country Club N6246 US Hwy 12 Elkhorn WI 53121 262-723-5722
UID:e.2059.7615
SEQUENCE:3
DTSTAMP:20260422T103139Z
URL:https://business.elkhornchamber.com/events/details/easter-brunch-buffet-at-evergreen-country-club-7615
END:VEVENT

END:VCALENDAR
