BEGIN:VCALENDAR
VERSION:2.0
PRODID:-//ChamberMaster//Event Calendar 2.0//EN
METHOD:PUBLISH
X-PUBLISHED-TTL:P3D
REFRESH-INTERVAL:P3D
CALSCALE:GREGORIAN
BEGIN:VEVENT
DTSTART:20160327T140000Z
DTEND:20160327T190000Z
X-MICROSOFT-CDO-ALLDAYEVENT:FALSE
SUMMARY:Easter Brunch Buffet at Evergreen Country Club
DESCRIPTION:Looking for a place to go on Easter?  Evergreen Country Club will be hosting their wonderful Easter Brunch Buffet from 9am to 2pm on Sunday\, March 27th.  Bring the whole family to enjoy something for everyone. Omelet Station made to order\, Pasta Action Station-always a favorite! Chef Carved Ham\, Scrambled Eggs\, Cheesy Hash Brown Potatoes\, Maple syrup Sausage\, Applewood Smoked  Bacon\, Pancakes & French  toast sticks with extensive toppings\, sliced  Roast Beef with mushroom burgundy sauce\, Teriyaki Chicken breast over rice\, Mashed Potatoes & gravy\, Assorted salads & fresh fruit tray\, Extensive Sweets table & Chocolate Fountain. Beverages Included: coffee\, tea\, milk  or juice. Reservations are suggested!
X-ALT-DESC;FMTTYPE=text/html:Looking for a place to go on Easter?&nbsp\; Evergreen Country Club will be hosting their wonderful&nbsp\;Easter Brunch Buffet&nbsp\;from 9am to 2pm on Sunday\, March 27th.&nbsp\; Bring the whole family to enjoy something for everyone. Omelet Station made to order\, Pasta Action Station-always a favorite! Chef Carved Ham\, Scrambled Eggs\, Cheesy Hash Brown Potatoes\, Maple syrup Sausage\, Applewood Smoked&nbsp\; Bacon\, Pancakes &amp\; French&nbsp\; toast sticks with extensive toppings\, sliced&nbsp\; Roast Beef with mushroom burgundy sauce\, Teriyaki Chicken breast over rice\, Mashed Potatoes &amp\; gravy\, Assorted salads &amp\; fresh fruit tray\, Extensive Sweets table &amp\; Chocolate Fountain. Beverages Included: coffee\, tea\, milk&nbsp\; or juice. Reservations are suggested!<br />\n&nbsp\;
LOCATION:Evergreen Country Club Served in the Evergreen Room
UID:e.2059.1874
SEQUENCE:3
DTSTAMP:20260424T065146Z
URL:https://business.elkhornchamber.com/events/details/easter-brunch-buffet-at-evergreen-country-club-03-27-2016-1874
END:VEVENT

END:VCALENDAR
