BEGIN:VCALENDAR
VERSION:2.0
PRODID:-//ChamberMaster//Event Calendar 2.0//EN
METHOD:PUBLISH
X-PUBLISHED-TTL:P3D
REFRESH-INTERVAL:P3D
CALSCALE:GREGORIAN
BEGIN:VEVENT
DTSTART:20160327T130000Z
DTEND:20160327T190000Z
X-MICROSOFT-CDO-ALLDAYEVENT:FALSE
SUMMARY:Easter Brunch at The Grist Mill
DESCRIPTION:Looking for somewhere to enjoy a wonderful meal with the family on Easter? Join The Grist Mill in East Troy for their Easter Brunch. The Breakfast Buffet will consist of :\n\nScrambled Eggs\n\nEgg Bake\n\nHash Browns\n\nBiscuits and Gravy\n\nPancakes\n\nFrench Toast\n\nFruit Salad\n\nPrime Rib\n\nHam\n\nSausage\n\nBacon\n\nLasagna\n\nChicken ala King\n\nMashed Potatoes\n\nRoasted Vegetables\n\nFresh Coffee\n\nAssorted Juice\n\nHot Tea\n\nAnd Much\, Much\, More!
X-ALT-DESC;FMTTYPE=text/html:Looking for somewhere to enjoy a wonderful meal with the family on Easter? Join The Grist Mill in East Troy for their Easter Brunch. The Breakfast Buffet will consist of :<br />\nScrambled Eggs<br />\nEgg Bake<br />\nHash Browns<br />\nBiscuits and Gravy<br />\nPancakes<br />\nFrench Toast<br />\nFruit Salad<br />\nPrime Rib<br />\nHam<br />\nSausage<br />\nBacon<br />\nLasagna<br />\nChicken ala King<br />\nMashed Potatoes<br />\nRoasted Vegetables<br />\nFresh Coffee<br />\nAssorted Juice<br />\nHot Tea<br />\nAnd Much\, Much\, More!<br />\n<br />\n&nbsp\;
LOCATION:The Grist Mill 2645 Main St East Troy\, WI
UID:e.2059.2947
SEQUENCE:3
DTSTAMP:20260424T050003Z
URL:https://business.elkhornchamber.com/events/details/easter-brunch-at-the-grist-mill-03-27-2016-2947
END:VEVENT

END:VCALENDAR
