BEGIN:VCALENDAR
VERSION:2.0
PRODID:-//ChamberMaster//Event Calendar 2.0//EN
METHOD:PUBLISH
X-PUBLISHED-TTL:P3D
REFRESH-INTERVAL:P3D
CALSCALE:GREGORIAN
BEGIN:VEVENT
DTSTART;VALUE=DATE:20190421
DTEND;VALUE=DATE:20190422
TRANSP:TRANSPARENT
X-MICROSOFT-CDO-ALLDAYEVENT:TRUE
SUMMARY:Easter Brunch at Evergreen Country Club
DESCRIPTION:Celebrate Easter with family and friends at Evergreen Country Club's Easter Brunch. More information to come.
X-ALT-DESC;FMTTYPE=text/html:Celebrate Easter with family and friends at Evergreen Country Club&#39\;s Easter Brunch. More information to come.
LOCATION:Evergreen Country Club N6246 US Highway 12 Elkhorn\, Wisconsin 53121
UID:e.2059.8735
SEQUENCE:3
DTSTAMP:20260421T153729Z
URL:https://business.elkhornchamber.com/events/details/easter-brunch-at-evergreen-country-club-8735
END:VEVENT

END:VCALENDAR
