BEGIN:VCALENDAR
VERSION:2.0
PRODID:-//ChamberMaster//Event Calendar 2.0//EN
METHOD:PUBLISH
X-PUBLISHED-TTL:P3D
REFRESH-INTERVAL:P3D
CALSCALE:GREGORIAN
BEGIN:VEVENT
DTSTART;VALUE=DATE:20180627
DTEND;VALUE=DATE:20180628
TRANSP:TRANSPARENT
X-MICROSOFT-CDO-ALLDAYEVENT:TRUE
SUMMARY:East Troy Cycling Classic
DESCRIPTION:East Troy Cycling Classic. More information to come.
X-ALT-DESC;FMTTYPE=text/html:East Troy Cycling Classic. More information to come.&nbsp\;<br />\n&nbsp\;
LOCATION:East Troy\, WI
UID:e.2059.8786
SEQUENCE:3
DTSTAMP:20260422T073939Z
URL:https://business.elkhornchamber.com/events/details/east-troy-cycling-classic-8786
END:VEVENT

END:VCALENDAR
