BEGIN:VCALENDAR
VERSION:2.0
PRODID:-//ChamberMaster//Event Calendar 2.0//EN
METHOD:PUBLISH
X-PUBLISHED-TTL:P3D
REFRESH-INTERVAL:P3D
CALSCALE:GREGORIAN
BEGIN:VEVENT
DTSTART:20190927T163000Z
DTEND:20190927T220000Z
X-MICROSOFT-CDO-ALLDAYEVENT:FALSE
SUMMARY:East Troy Chamber of Commerce Golf Outing
DESCRIPTION:East Troy Chamber of Commerce Annual Golf Outing at Alpine Valley Golf Course on September 27th. More information to come.
X-ALT-DESC;FMTTYPE=text/html:East Troy Chamber of Commerce Annual Golf Outing at Alpine Valley Golf Course on September 27th. More information to come.
LOCATION:Alpine Valley Golf Course.
UID:e.2059.10814
SEQUENCE:3
DTSTAMP:20260421T055251Z
URL:https://business.elkhornchamber.com/events/details/east-troy-chamber-of-commerce-golf-outing-10814
END:VEVENT

END:VCALENDAR
