BEGIN:VCALENDAR
VERSION:2.0
PRODID:-//ChamberMaster//Event Calendar 2.0//EN
METHOD:PUBLISH
X-PUBLISHED-TTL:P3D
REFRESH-INTERVAL:P3D
CALSCALE:GREGORIAN
BEGIN:VEVENT
DTSTART;VALUE=DATE:20180527
DTEND;VALUE=DATE:20180528
TRANSP:TRANSPARENT
X-MICROSOFT-CDO-ALLDAYEVENT:TRUE
SUMMARY:East Troy Brew Fest
DESCRIPTION:East Troy's third annual Brewfest will be held from 3 to 6 p.m. on Sunday\, May 27 at East Troy Village Square Park\, 2881 Main St.\, featuring unlimited samples of over 35 craft beers and micro brews from area breweries.\n\nWe'll also have the best local homebrewers in East Troy\, bringing out their best drafts for you to taste and rate.\n\nThe event will be part of the Chamber's 42nd annual Memorial Day weekend Corn & Brat Roast May 25-28\, featuring roasted sweet corn\, brats\, hot dogs\, burgers\, soda and beer\, as well as live entertainment. The weekend events will also include the Chamber's 27th annual East Troy Community-wide Rummage Sale.\n\n \n\nTickets on sale now!\n\n \n\nGeneral admission tickets are $30 in advance and $35 at the door and will include: wristband for one entry to restricted access tasting area\, 3 oz. tasting samples and one souvenir tasting glass. A variety of food will be available for purchase from the Chamber's Corn & Brat Roast.\n\n \n\n*Must be 21 years of age or older with valid ID to participate\n\n \n\nDesignated driver tickets are $5\, which includes a brat\, burger or hot dog  meal and 3 beverage tickets for water and soda.\n\n \n\nTickets are non-refundable. Event will be held rain or shine.
X-ALT-DESC;FMTTYPE=text/html:<p style="box-sizing: border-box\; margin: 0px 0px 10px\; font-family: Georgia\, serif\; font-size: 1.1em\;">East Troy&#39\;s third annual Brewfest will be held from 3 to 6 p.m. on Sunday\, May 27 at East Troy Village Square Park\, 2881 Main St.\, featuring unlimited samples of over 35 craft beers and micro brews from area breweries.</p>\n\n<p style="box-sizing: border-box\; margin: 0px 0px 10px\; font-family: Georgia\, serif\; font-size: 1.1em\;">We&rsquo\;ll also have the best local homebrewers in East Troy\, bringing out their best drafts for you to taste and rate.</p>\n\n<p style="box-sizing: border-box\; margin: 0px 0px 10px\; font-family: Georgia\, serif\; font-size: 1.1em\;">The event will be part of the Chamber&rsquo\;s 42nd annual Memorial Day weekend Corn &amp\; Brat Roast May 25-28\, featuring roasted sweet corn\, brats\, hot dogs\, burgers\, soda and beer\, as well as live entertainment. The weekend events will also include the Chamber&#39\;s 27th annual East Troy Community-wide Rummage Sale.</p>\n\n<p style="box-sizing: border-box\; margin: 0px 0px 10px\; font-family: Georgia\, serif\; font-size: 1.1em\;">&nbsp\;</p>\n\n<p style="box-sizing: border-box\; margin: 0px 0px 10px\; font-family: Georgia\, serif\; font-size: 1.1em\;"><strong style="box-sizing: border-box\;">Tickets on sale now!</strong></p>\n\n<p style="box-sizing: border-box\; margin: 0px 0px 10px\; font-family: Georgia\, serif\; font-size: 1.1em\;">&nbsp\;</p>\n\n<p style="box-sizing: border-box\; margin: 0px 0px 10px\; font-family: Georgia\, serif\; font-size: 1.1em\;">General admission tickets are $30 in advance and $35 at the door and will include: wristband for one entry to restricted access tasting area\, 3 oz. tasting samples and one souvenir tasting glass. A variety of food will be available for purchase from the Chamber&#39\;s Corn &amp\; Brat Roast.</p>\n\n<p style="box-sizing: border-box\; margin: 0px 0px 10px\; font-family: Georgia\, serif\; font-size: 1.1em\;">&nbsp\;</p>\n\n<p style="box-sizing: border-box\; margin: 0px 0px 10px\; font-family: Georgia\, serif\; font-size: 1.1em\;">*Must be 21 years of age or older with valid ID to participate</p>\n\n<p style="box-sizing: border-box\; margin: 0px 0px 10px\; font-family: Georgia\, serif\; font-size: 1.1em\;">&nbsp\;</p>\n\n<p style="box-sizing: border-box\; margin: 0px 0px 10px\; font-family: Georgia\, serif\; font-size: 1.1em\;">Designated driver tickets are $5\, which includes a brat\, burger or hot dog&#65279\; meal and 3 beverage tickets for water and soda.</p>\n\n<p style="box-sizing: border-box\; margin: 0px 0px 10px\; font-family: Georgia\, serif\; font-size: 1.1em\;">&nbsp\;</p>\n\n<p style="box-sizing: border-box\; margin: 0px 0px 10px\; font-family: Georgia\, serif\; font-size: 1.1em\;">Tickets are non-refundable. Event will be held rain or shine.</p>\n
LOCATION:East Troy Village Square Park\, 2881 Main St East Troy\, WI
UID:e.2059.8785
SEQUENCE:3
DTSTAMP:20260422T101504Z
URL:https://business.elkhornchamber.com/events/details/east-troy-brew-fest-8785
END:VEVENT

END:VCALENDAR
