BEGIN:VCALENDAR
VERSION:2.0
PRODID:-//ChamberMaster//Event Calendar 2.0//EN
METHOD:PUBLISH
X-PUBLISHED-TTL:P3D
REFRESH-INTERVAL:P3D
CALSCALE:GREGORIAN
BEGIN:VEVENT
DTSTART;VALUE=DATE:20160702
DTEND;VALUE=DATE:20160703
TRANSP:TRANSPARENT
X-MICROSOFT-CDO-ALLDAYEVENT:TRUE
SUMMARY:Early Harness Races
DESCRIPTION:Harness Races at the Walworth County Fairgrounds.
X-ALT-DESC;FMTTYPE=text/html:Harness Races at the Walworth County Fairgrounds.
LOCATION:Walworth County Fairgrounds 411 E. Court St Elkhorn\, WI
UID:e.2059.2080
SEQUENCE:3
DTSTAMP:20260423T220237Z
URL:https://business.elkhornchamber.com/events/details/early-harness-races-07-02-2016-2080
END:VEVENT

END:VCALENDAR
