BEGIN:VCALENDAR
VERSION:2.0
PRODID:-//ChamberMaster//Event Calendar 2.0//EN
METHOD:PUBLISH
X-PUBLISHED-TTL:P3D
REFRESH-INTERVAL:P3D
CALSCALE:GREGORIAN
BEGIN:VEVENT
DTSTART;VALUE=DATE:20160618
DTEND;VALUE=DATE:20160619
TRANSP:TRANSPARENT
X-MICROSOFT-CDO-ALLDAYEVENT:TRUE
SUMMARY:Early Harness Races
DESCRIPTION:Harness Races at the Walworth County Fairgrounds
X-ALT-DESC;FMTTYPE=text/html:Harness Races at the Walworth County Fairgrounds&nbsp\;&nbsp\;&nbsp\;&nbsp\;
LOCATION:Walworth County Fairgrounds 411 E. Court St Elkhorn\, WI
UID:e.2059.2081
SEQUENCE:3
DTSTAMP:20260423T234131Z
URL:https://business.elkhornchamber.com/events/details/early-harness-races-06-18-2016-2081
END:VEVENT

END:VCALENDAR
