BEGIN:VCALENDAR
VERSION:2.0
PRODID:-//ChamberMaster//Event Calendar 2.0//EN
METHOD:PUBLISH
X-PUBLISHED-TTL:P3D
REFRESH-INTERVAL:P3D
CALSCALE:GREGORIAN
BEGIN:VEVENT
DTSTART:20190525T143000Z
DTEND:20190525T200000Z
X-MICROSOFT-CDO-ALLDAYEVENT:FALSE
SUMMARY:EAHS Auto Club 7th Annual Car Show
DESCRIPTION:Join the Elkhorn High School Auto Club for their 7th Annual Car show! Featuring 50's & 60's  automobiles! Food & Beverages to be served.\n\nRegistration is $5.00\n\nAll vehicles are welcome. Save time and beat the line-Register ahead of time at easdautomotive@elkhorn.k12.us
X-ALT-DESC;FMTTYPE=text/html:Join the Elkhorn High School Auto Club for their 7th Annual Car show! Featuring 50&#39\;s &amp\; 60&#39\;s&nbsp\; automobiles! Food &amp\; Beverages to be served.<br />\nRegistration is $5.00<br />\nAll vehicles are welcome. Save time and beat the line-Register ahead of time at easdautomotive@elkhorn.k12.us
LOCATION:Elkhorn Area High School Main Entrance
UID:e.2059.10317
SEQUENCE:3
DTSTAMP:20260421T134909Z
URL:https://business.elkhornchamber.com/events/details/eahs-auto-club-7th-annual-car-show-10317
END:VEVENT

END:VCALENDAR
