BEGIN:VCALENDAR
VERSION:2.0
PRODID:-//ChamberMaster//Event Calendar 2.0//EN
METHOD:PUBLISH
X-PUBLISHED-TTL:P3D
REFRESH-INTERVAL:P3D
CALSCALE:GREGORIAN
BEGIN:VEVENT
DTSTART:20170929T190000Z
DTEND:20170929T200000Z
X-MICROSOFT-CDO-ALLDAYEVENT:FALSE
SUMMARY:Dollar-A-Day Boys: A Musical Tribute to the Civilian Conservation Corps
DESCRIPTION:Michigan based author/songwriter Bill Jamerson will present a music and storytelling program about the Civilian Conservation Corps\, a federal works program created by President Franklin Roosevelt in the heart of The Great Depression. Jamerson will share stories about the CCC\, read excerpts from his novel\, show a video clip from his PBS film and sing original songs with his guitar.  He has performed at CCC reunions around the country and at dozens of CCC built national and state parks. His presentation is about people both ordinary and extraordinary\, with stories of strength\, wit and charm.
X-ALT-DESC;FMTTYPE=text/html:<span style="color: rgb(68\, 68\, 68)\; font-family: arial\,sans-serif\; font-size: small\;">Michigan based author/songwriter Bill Jamerson</span><em>&nbsp\;</em><span style="color: rgb(68\, 68\, 68)\; font-family: arial\,sans-serif\; font-size: small\;">will present a music and storytelling program about the Civilian Conservation Corps\,&nbsp\;a federal works program created by President Franklin Roosevelt in the heart of The Great Depression.&nbsp\;Jamerson will share stories about the CCC\, read excerpts from his novel\, show a video clip from his PBS film and sing original songs with his guitar.&nbsp\; He has performed at CCC reunions around the country and at dozens of&nbsp\;CCC built national and state parks. His presentation is about people both ordinary and extraordinary\, with stories of strength\, wit and charm.</span>
LOCATION:
UID:e.2059.5941
SEQUENCE:3
DTSTAMP:20260422T215205Z
URL:https://business.elkhornchamber.com/events/details/dollar-a-day-boys-a-musical-tribute-to-the-civilian-conservation-corps-5941
END:VEVENT

END:VCALENDAR
