BEGIN:VCALENDAR
VERSION:2.0
PRODID:-//ChamberMaster//Event Calendar 2.0//EN
METHOD:PUBLISH
X-PUBLISHED-TTL:P3D
REFRESH-INTERVAL:P3D
CALSCALE:GREGORIAN
BEGIN:VEVENT
DTSTART:20170429T140000Z
DTEND:20170429T170000Z
X-MICROSOFT-CDO-ALLDAYEVENT:FALSE
SUMMARY:Dog Walk for the Animals at Old World Wisconsin
DESCRIPTION:Join us for a dog-gone good time\, walking your pooch on the beautiful grounds of Old World Wisconsin and help feed the animals that call OWW home. \nThis event is a fund raiser for the animal program at OWW. An agility course\, vendor booths and photos with your dog(s) are all new features of the Dog Walk this year. The agility course is available for a $5 donation\, which will be split between Lakeland Animal Shelter & the Humane Animal Welfare Society (HAWS) of Waukesha County.\n\nAll dogs must be on a leash. Rain or Shine.
X-ALT-DESC;FMTTYPE=text/html:<h2><span style="font-family:tahoma"><span style="color:#006400"><strong>Join us for a dog-gone good time\, walking your pooch on the beautiful grounds of Old World Wisconsin and help feed the animals that call OWW home.</strong> </span></span></h2>\n<span style="font-family:tahoma"><span style="color:#006400">This event is a fund raiser for the animal program at OWW. An agility course\, vendor booths and photos with your dog(s) are all new features of the Dog Walk this year. The agility course is available for a $5 donation\, which will be split between <a href="http://www.lakelandanimalshelter.org/">Lakeland Animal Shelter</a> &amp\; the <a href="http://hawspets.org/">Humane Animal Welfare Society</a> (HAWS) of Waukesha County.<br />\n<strong>All dogs must be on a leash. Rain or Shine.</strong></span></span>
LOCATION:Old World Wisconsin W372 S9727 Hwy 67 OWW is located about 1 mile south of Eagle\, WI on Hwy 67.
UID:e.2059.4780
SEQUENCE:3
DTSTAMP:20260423T074949Z
URL:https://business.elkhornchamber.com/events/details/dog-walk-for-the-animals-at-old-world-wisconsin-4780
END:VEVENT

END:VCALENDAR
