BEGIN:VCALENDAR
VERSION:2.0
PRODID:-//ChamberMaster//Event Calendar 2.0//EN
METHOD:PUBLISH
X-PUBLISHED-TTL:P3D
REFRESH-INTERVAL:P3D
CALSCALE:GREGORIAN
BEGIN:VEVENT
DTSTART;VALUE=DATE:20181012
DTEND;VALUE=DATE:20181015
TRANSP:TRANSPARENT
X-MICROSOFT-CDO-ALLDAYEVENT:TRUE
SUMMARY:Do Patten Leather Shoes Really Reflect Up? Musical Comedy
DESCRIPTION:Do Patten Leather Shoes Really Reflect Up? Musical Comedy from the Lakeland Players. More information to come.
X-ALT-DESC;FMTTYPE=text/html:Do Patten Leather Shoes Really Reflect Up? Musical Comedy from the Lakeland Players. More information to come.
LOCATION:15 W Walworth St\, Elkhorn WI 53121
UID:e.2059.8684
SEQUENCE:3
DTSTAMP:20260422T021119Z
URL:https://business.elkhornchamber.com/events/details/do-patten-leather-shoes-really-reflect-up-musical-comedy-8684
END:VEVENT

END:VCALENDAR
