BEGIN:VCALENDAR
VERSION:2.0
PRODID:-//ChamberMaster//Event Calendar 2.0//EN
METHOD:PUBLISH
X-PUBLISHED-TTL:P3D
REFRESH-INTERVAL:P3D
CALSCALE:GREGORIAN
BEGIN:VEVENT
DTSTART;VALUE=DATE:20181019
DTEND;VALUE=DATE:20181021
TRANSP:TRANSPARENT
X-MICROSOFT-CDO-ALLDAYEVENT:TRUE
SUMMARY:Do Patten Leather Shoes Really Reflect Up?
DESCRIPTION:"Do Patten Leather Shoes Really Reflect Up?" a Musical Comedy performed by Lakeland Players. More information to come.
X-ALT-DESC;FMTTYPE=text/html:&quot\;Do Patten Leather Shoes Really Reflect Up?&quot\; a Musical Comedy performed by Lakeland Players. More information to come.
LOCATION:15 W Walworth St\, Elkhorn WI 53121
UID:e.2059.8685
SEQUENCE:3
DTSTAMP:20260422T015648Z
URL:https://business.elkhornchamber.com/events/details/do-patten-leather-shoes-really-reflect-up-8685
END:VEVENT

END:VCALENDAR
