BEGIN:VCALENDAR
VERSION:2.0
PRODID:-//ChamberMaster//Event Calendar 2.0//EN
METHOD:PUBLISH
X-PUBLISHED-TTL:P3D
REFRESH-INTERVAL:P3D
CALSCALE:GREGORIAN
BEGIN:VEVENT
DTSTART;VALUE=DATE:20190131
DTEND;VALUE=DATE:20190201
TRANSP:TRANSPARENT
X-MICROSOFT-CDO-ALLDAYEVENT:TRUE
SUMMARY:DIY Arts & Crafts Open studio Pajama Party
DESCRIPTION:Wear your favorite pajamas while working on your craft project and enjoying pajama party themed snacks.
X-ALT-DESC;FMTTYPE=text/html:Wear your favorite pajamas while working on your craft project and enjoying pajama party themed snacks.
LOCATION:Firefly Art Glass LLC 39 N. Wisconsin Elkhorn WI 53121
UID:e.2059.9737
SEQUENCE:3
DTSTAMP:20260421T204322Z
URL:https://business.elkhornchamber.com/events/details/diy-arts-crafts-open-studio-pajama-party-9737
END:VEVENT

END:VCALENDAR
