BEGIN:VCALENDAR
VERSION:2.0
PRODID:-//ChamberMaster//Event Calendar 2.0//EN
METHOD:PUBLISH
X-PUBLISHED-TTL:P3D
REFRESH-INTERVAL:P3D
CALSCALE:GREGORIAN
BEGIN:VEVENT
DTSTART;VALUE=DATE:20190321
DTEND;VALUE=DATE:20190323
TRANSP:TRANSPARENT
X-MICROSOFT-CDO-ALLDAYEVENT:TRUE
SUMMARY:DIY Arts & Crafts Open studio Ladies Night
DESCRIPTION:Grab your BFF\, gal pal and family! Enjoy an adult beverage as you work on one of three projects\, Must be 21 to register.
X-ALT-DESC;FMTTYPE=text/html:Grab your BFF\, gal pal and family! Enjoy an adult beverage as you work on one of three projects\, Must be 21 to register.
LOCATION:Firefly Art Glass LLC 39 N. Wisconsin Elkhorn WI 53121
UID:e.2059.9741
SEQUENCE:3
DTSTAMP:20260421T153012Z
URL:https://business.elkhornchamber.com/events/details/diy-arts-crafts-open-studio-ladies-night-9741
END:VEVENT

END:VCALENDAR
