BEGIN:VCALENDAR
VERSION:2.0
PRODID:-//ChamberMaster//Event Calendar 2.0//EN
METHOD:PUBLISH
X-PUBLISHED-TTL:P3D
REFRESH-INTERVAL:P3D
CALSCALE:GREGORIAN
BEGIN:VEVENT
DTSTART;VALUE=DATE:20190221
DTEND;VALUE=DATE:20190223
TRANSP:TRANSPARENT
X-MICROSOFT-CDO-ALLDAYEVENT:TRUE
SUMMARY:DIY Arts & Crafts Open studio Harry Potter Night
DESCRIPTION:Come as your favorite Harry Potter character and paint a wizard themed sign. Butter beer and wizardly treats will be served.
X-ALT-DESC;FMTTYPE=text/html:Come as your favorite Harry Potter character and paint a wizard themed sign. Butter beer and wizardly treats will be served.
LOCATION:Firefly Art Glass LLC 39 N. Wisconsin Elkhorn WI 53121
UID:e.2059.9740
SEQUENCE:3
DTSTAMP:20260421T185405Z
URL:https://business.elkhornchamber.com/events/details/diy-arts-crafts-open-studio-harry-potter-night-9740
END:VEVENT

END:VCALENDAR
