BEGIN:VCALENDAR
VERSION:2.0
PRODID:-//ChamberMaster//Event Calendar 2.0//EN
METHOD:PUBLISH
X-PUBLISHED-TTL:P3D
REFRESH-INTERVAL:P3D
CALSCALE:GREGORIAN
BEGIN:VEVENT
DTSTART:20190628T213000Z
DTEND:20190629T000000Z
X-MICROSOFT-CDO-ALLDAYEVENT:FALSE
SUMMARY:Dinners at the Lake at Lutherdale : Festa italiana
DESCRIPTION:Dinners at the Lake at Lutherdale is Featuring Festa Italiana. All meals include salad bar and beverages. Guests are encouraged to try some of everything!
X-ALT-DESC;FMTTYPE=text/html:Dinners at the Lake at Lutherdale is Featuring Festa Italiana. All meals include salad bar and beverages. Guests are encouraged to try some of everything!&nbsp\;
LOCATION:Lutherdale N7891 US Hwy 12 Elkhorn WI 53121
UID:e.2059.10763
SEQUENCE:3
DTSTAMP:20260421T063617Z
URL:https://business.elkhornchamber.com/events/details/dinners-at-the-lake-at-lutherdale-festa-italiana-10763
END:VEVENT

END:VCALENDAR
