BEGIN:VCALENDAR
VERSION:2.0
PRODID:-//ChamberMaster//Event Calendar 2.0//EN
METHOD:PUBLISH
X-PUBLISHED-TTL:P3D
REFRESH-INTERVAL:P3D
CALSCALE:GREGORIAN
BEGIN:VEVENT
DTSTART:20180629T213000Z
DTEND:20180630T000000Z
X-MICROSOFT-CDO-ALLDAYEVENT:FALSE
SUMMARY:Dinners at the Lake
DESCRIPTION:Dinners at the Lake held at Lutherdale Ministires.
X-ALT-DESC;FMTTYPE=text/html:Dinners at the Lake held at Lutherdale Ministires.&nbsp\;
LOCATION:Lutherdale Minisitries N7891 Highway 12 ElkhronJune 29\, 2018
UID:e.2059.8797
SEQUENCE:3
DTSTAMP:20260422T085144Z
URL:https://business.elkhornchamber.com/events/details/dinners-at-the-lake-8797
END:VEVENT

END:VCALENDAR
