BEGIN:VCALENDAR
VERSION:2.0
PRODID:-//ChamberMaster//Event Calendar 2.0//EN
METHOD:PUBLISH
X-PUBLISHED-TTL:P3D
REFRESH-INTERVAL:P3D
CALSCALE:GREGORIAN
BEGIN:VEVENT
DTSTART;VALUE=DATE:20180525
DTEND;VALUE=DATE:20180526
TRANSP:TRANSPARENT
X-MICROSOFT-CDO-ALLDAYEVENT:TRUE
SUMMARY:Dinners at the Lake
DESCRIPTION:Dinners at the Lake!
X-ALT-DESC;FMTTYPE=text/html:Dinners at the Lake!
LOCATION:Lutherdale Ministries Elkhorn\, WI
UID:e.2059.8792
SEQUENCE:3
DTSTAMP:20260422T085102Z
URL:https://business.elkhornchamber.com/events/details/dinners-at-the-lake-8792
END:VEVENT

END:VCALENDAR
