BEGIN:VCALENDAR
VERSION:2.0
PRODID:-//ChamberMaster//Event Calendar 2.0//EN
METHOD:PUBLISH
X-PUBLISHED-TTL:P3D
REFRESH-INTERVAL:P3D
CALSCALE:GREGORIAN
BEGIN:VEVENT
DTSTART:20151103T170000Z
DTEND:20151104T010000Z
X-MICROSOFT-CDO-ALLDAYEVENT:FALSE
SUMMARY:Dinner with HOPE NOW\, Inc
DESCRIPTION:A fundraiser for Hope Now\, Inc of Elkhorn is hosting a Dinner at Calabria's Restaurant. Hope Now\, Inc. is a local non-profit 501 (c)(3) group that provides emergency\, short term assistance with houseing\, utilities\, transportation\, or related needs\, and holiday food baskets to applicants who live in the Elkhorn Area School District.\n\nDinner choices will be Spaghetti with Meatballs and Marinara Sauce OR Chicken Fried Steak with mashed Potatoes.\n\nAdult & Children portions available.
X-ALT-DESC;FMTTYPE=text/html:A fundraiser for Hope Now\, Inc of Elkhorn is hosting a Dinner at Calabria&#39\;s Restaurant. Hope Now\, Inc. is a local non-profit 501 (c)(3) group that provides emergency\, short term assistance with houseing\, utilities\, transportation\, or related needs\, and holiday food baskets to applicants who live in the Elkhorn Area School District.<br />\nDinner choices will be Spaghetti with Meatballs and Marinara Sauce OR Chicken Fried Steak with mashed Potatoes.<br />\nAdult &amp\; Children portions available.
LOCATION:Calabria's Restaurant 1 North Lincoln St. Elkhorn\, Wi
UID:e.2059.1787
SEQUENCE:3
DTSTAMP:20260424T112013Z
URL:https://business.elkhornchamber.com/events/details/dinner-with-hope-now-inc-11-03-2015-1787
END:VEVENT

END:VCALENDAR
