BEGIN:VCALENDAR
VERSION:2.0
PRODID:-//ChamberMaster//Event Calendar 2.0//EN
METHOD:PUBLISH
X-PUBLISHED-TTL:P3D
REFRESH-INTERVAL:P3D
CALSCALE:GREGORIAN
BEGIN:VEVENT
DTSTART:20160405T160000Z
DTEND:20160406T000000Z
X-MICROSOFT-CDO-ALLDAYEVENT:FALSE
SUMMARY:DINNER with HOPE NOW\, Inc.
DESCRIPTION:Stop down for lunch or dinner for HOPE NOW\, Inc and their annual fundraiser.\n\nHope Now\, Inc. is a local non-profit 5010 (c)(3) group that provides emergency\, short term assistance with housing\, utilities\, transportation\, or related needs\, and holiday food baskets to applicants who live in the Elkhorn Area School District.\n\nThey will be hosting a Lunch/Dinner at Calabria's Restaurant from 11am - 2pm and then 4pm to 7pm.\n\nDinner Choices:\n\nSpaghetti with Meatball and Marinara Sauce OR Chicken Fried Steak with Mashed Potatoes.
X-ALT-DESC;FMTTYPE=text/html:Stop down for lunch or dinner for HOPE NOW\, Inc and their annual fundraiser.<br />\nHope Now\, Inc. is a local non-profit 5010 (c)(3) group that provides emergency\, short term assistance with housing\, utilities\, transportation\, or related needs\, and holiday food baskets to applicants who live in the Elkhorn Area School District.<br />\nThey will be hosting a Lunch/Dinner at Calabria&#39\;s Restaurant from 11am - 2pm and then 4pm to 7pm.<br />\nDinner Choices:<br />\nSpaghetti with Meatball and Marinara Sauce OR Chicken Fried Steak with Mashed Potatoes.
LOCATION:Calabria's Restaurant 1 North Lincoln St. Elkhorn WI
UID:e.2059.3406
SEQUENCE:3
DTSTAMP:20260424T044911Z
URL:https://business.elkhornchamber.com/events/details/dinner-with-hope-now-inc-04-05-2016-3406
END:VEVENT

END:VCALENDAR
