BEGIN:VCALENDAR
VERSION:2.0
PRODID:-//ChamberMaster//Event Calendar 2.0//EN
METHOD:PUBLISH
X-PUBLISHED-TTL:P3D
REFRESH-INTERVAL:P3D
CALSCALE:GREGORIAN
BEGIN:VEVENT
DTSTART:20151201T230000Z
DTEND:20151202T020000Z
X-MICROSOFT-CDO-ALLDAYEVENT:FALSE
SUMMARY:Dinner & Movie with Santa
DESCRIPTION:United Student Government invites students and their family for a night of holiday fun! Enjoy free pizza/drinks\, pictures with Santa. Clearly You Crystals and the showing of the movie Polar Express~\n\nDinner provided while supplies last.
X-ALT-DESC;FMTTYPE=text/html:United Student Government invites students and their family for a night of holiday fun! Enjoy free pizza/drinks\, pictures with Santa. Clearly You Crystals and the showing of the movie Polar Express~<br />\nDinner provided while supplies last.<br />\n&nbsp\;
LOCATION:Gateway Technical College Elkhorn Campus 400 County Road H Elkhorn\, WI 53121 Student Commons
UID:e.2059.1843
SEQUENCE:3
DTSTAMP:20260424T094545Z
URL:https://business.elkhornchamber.com/events/details/dinner-movie-with-santa-12-01-2015-1843
END:VEVENT

END:VCALENDAR
