BEGIN:VCALENDAR
VERSION:2.0
PRODID:-//ChamberMaster//Event Calendar 2.0//EN
METHOD:PUBLISH
X-PUBLISHED-TTL:P3D
REFRESH-INTERVAL:P3D
CALSCALE:GREGORIAN
BEGIN:VEVENT
DTSTART:20160921T130000Z
DTEND:20160921T180000Z
X-MICROSOFT-CDO-ALLDAYEVENT:FALSE
SUMMARY:Dine Out for Hope Now
DESCRIPTION:Fundraiser for Hope Now\, Inc. of Elkhorn is hosting a breakfast and lunch at Vasili's Corner Cafe just for you!\n\nThe Menu Choices are as follows:\n\nBreakfast: Stuffed French Toast or Ham Quiche\n\nLunch: Cabbage Rolls or Chicken/Tuna Salad\n\nTickets are available at :\n\nVasili's Cafe : 262-723-7100\n\nVolunteer Connections : 262-723-5383\n\nSt. Patrick's Church: 262-723-5565\n\nFirst Congregational - UCC : 262-723-3246\n\n\n\nSee you there!
X-ALT-DESC;FMTTYPE=text/html:Fundraiser for Hope Now\, Inc. of Elkhorn is hosting a breakfast and lunch at Vasili&#39\;s Corner Cafe just for you!<br />\nThe Menu Choices are as follows:<br />\nBreakfast: Stuffed French Toast or Ham Quiche<br />\nLunch: Cabbage Rolls or Chicken/Tuna Salad<br />\nTickets are available at :<br />\nVasili&#39\;s Cafe : 262-723-7100<br />\nVolunteer Connections : 262-723-5383<br />\nSt. Patrick&#39\;s Church: 262-723-5565<br />\nFirst Congregational - UCC : 262-723-3246<br />\n<br />\nSee you there!
LOCATION:Vasili's Corner Cafe 26 East Walworth St. Elkhorn\, Wi
UID:e.2059.4534
SEQUENCE:3
DTSTAMP:20260423T190041Z
URL:https://business.elkhornchamber.com/events/details/dine-out-for-hope-now-4534
END:VEVENT

END:VCALENDAR
