BEGIN:VCALENDAR
VERSION:2.0
PRODID:-//ChamberMaster//Event Calendar 2.0//EN
METHOD:PUBLISH
X-PUBLISHED-TTL:P3D
REFRESH-INTERVAL:P3D
CALSCALE:GREGORIAN
BEGIN:VEVENT
DTSTART;VALUE=DATE:20151106
DTEND;VALUE=DATE:20151116
TRANSP:TRANSPARENT
X-MICROSOFT-CDO-ALLDAYEVENT:TRUE
SUMMARY:Dine Around The Lakes: Walworth County's Restaurant Week
DESCRIPTION:Join us for the 2nd annual Dine Around The Lakes on November 6-15\, 2015! Dine Around The lakes is a restaurant week for the Walworth County area. Participating restaurants will offer a unique three-course menu for lunch dinner - available only during the Dine Around The Lakes week. Enjoy a three-course lunch for only $10 or $15 per person. Come back for a three-course dinner\, for just $20 or $25 per person. Reservations at all restaurants are strongly encouraged.
X-ALT-DESC;FMTTYPE=text/html:Join us for the 2nd annual Dine Around The Lakes on November 6-15\, 2015! Dine Around The lakes is a restaurant week for the Walworth County area. Participating restaurants will offer a unique three-course menu for lunch dinner - available only during the Dine Around The Lakes week. Enjoy a three-course lunch for only $10 or $15 per person. Come back for a three-course dinner\, for just $20 or $25 per person. Reservations at all restaurants are strongly encouraged.
LOCATION:Throughout Walworth County
UID:e.2059.1803
SEQUENCE:3
DTSTAMP:20260424T124336Z
URL:https://business.elkhornchamber.com/events/details/dine-around-the-lakes-walworth-county-s-restaurant-week-11-06-2015-1803
END:VEVENT

END:VCALENDAR
