BEGIN:VCALENDAR
VERSION:2.0
PRODID:-//ChamberMaster//Event Calendar 2.0//EN
METHOD:PUBLISH
X-PUBLISHED-TTL:P3D
REFRESH-INTERVAL:P3D
CALSCALE:GREGORIAN
BEGIN:VEVENT
DTSTART;VALUE=DATE:20181102
DTEND;VALUE=DATE:20181112
TRANSP:TRANSPARENT
X-MICROSOFT-CDO-ALLDAYEVENT:TRUE
SUMMARY:Dine Around the Lakes
DESCRIPTION:Plot Your Dining Course Through The Lake Geneva Area During Dine Around The Lakes\, Walworth County's Official "Restaurant Week" We invite you to dine with us during Walworth County's annual "Dine Around The Lakes" restaurant week. The dining experiences begin on November 2 and runs through November 11 with specially priced 3-course meals at 17 county-wide restaurants. The dining event was started in 2014 by the Walworth County Visitors Bureau\, to promote the area's widespread dining options. Participating restaurants will offer a unique three-course menu for lunch and/or dinner - available only during the Dine Around The Lakes\, November 2-11. Lunch menus range from $10-15\, and dinner menus range from $20-30. Restaurants from many Walworth County communities are featuring all types of food during this 10-day event. Participating area restaurants include 240  West (Fontana)\, Barrique Bistro & Wine Bar (Lake Geneva)\, The Boat House Bar & Grill (Lake Geneva)\, The Bottle Shop (Lake Geneva)\, Caf  Calamari (Williams Bay)\, Crafted Americana (Lake Geneva)\, Flat Iron Tap (Lake Geneva)\, Frontier Restaurant (Delavan)\, Grand Caf  (Lake Geneva)\, The Grandview Restaurant (Lake Geneva)\, Harpoon Willie's (Williams Bay)\, Hawk's View Bar & Grille (Lake Geneva)\, Hunt Club Steakhouse (Lake Geneva)\, The Red Geranium (Lake Geneva)\, Royal Oak Farm Country Kitchen (Harvard\, IL)\, The Trout House (Palmyra)\, and The Waterfront (Fontana). Make sure to visit the Dine Around The Lakes Facebook page for giveaways to each of the participating restaurants. A $25 gift card or certificate will be given to a lucky winner each day through the end of Dine Around The Lakes - November 11. To view a full list of participating restaurants and their mouthwatering menus\, visit www.dinearoundthelakes.com. For details about the event\, contact the Walworth County Visitors Bureau at (262) 728-6000.
X-ALT-DESC;FMTTYPE=text/html:Plot Your Dining Course Through The Lake Geneva Area During Dine Around The Lakes\, Walworth County&#39\;s Official &quot\;Restaurant Week&quot\; We invite you to dine with us during Walworth County&#39\;s annual &quot\;Dine Around The Lakes&quot\; restaurant week. The dining experiences begin on November 2 and runs through November 11 with specially priced 3-course meals at 17 county-wide restaurants. The dining event was started in 2014 by the Walworth County Visitors Bureau\, to promote the area&#39\;s widespread dining options. Participating restaurants will offer a unique three-course menu for lunch and/or dinner - available only during the Dine Around The Lakes\, November 2-11. Lunch menus range from $10-15\, and dinner menus range from $20-30. Restaurants from many Walworth County communities are featuring all types of food during this 10-day event. Participating area restaurants include 240&deg\; West (Fontana)\, Barrique Bistro &amp\; Wine Bar (Lake Geneva)\, The Boat House Bar &amp\; Grill (Lake Geneva)\, The Bottle Shop (Lake Geneva)\, Caf&eacute\; Calamari (Williams Bay)\, Crafted Americana (Lake Geneva)\, Flat Iron Tap (Lake Geneva)\, Frontier Restaurant (Delavan)\, Grand Caf&eacute\; (Lake Geneva)\, The Grandview Restaurant (Lake Geneva)\, Harpoon Willie&#39\;s (Williams Bay)\, Hawk&#39\;s View Bar &amp\; Grille (Lake Geneva)\, Hunt Club Steakhouse (Lake Geneva)\, The Red Geranium (Lake Geneva)\, Royal Oak Farm Country Kitchen (Harvard\, IL)\, The Trout House (Palmyra)\, and The Waterfront (Fontana). Make sure to visit the Dine Around The Lakes Facebook page for giveaways to each of the participating restaurants. A $25 gift card or certificate will be given to a lucky winner each day through the end of Dine Around The Lakes - November 11. To view a full list of participating restaurants and their mouthwatering menus\, visit www.dinearoundthelakes.com. For details about the event\, contact the Walworth County Visitors Bureau at (262) 728-6000.
LOCATION:Walworth County
UID:e.2059.9581
SEQUENCE:3
DTSTAMP:20260421T223309Z
URL:https://business.elkhornchamber.com/events/details/dine-around-the-lakes-9581
END:VEVENT

END:VCALENDAR
