BEGIN:VCALENDAR
VERSION:2.0
PRODID:-//ChamberMaster//Event Calendar 2.0//EN
METHOD:PUBLISH
X-PUBLISHED-TTL:P3D
REFRESH-INTERVAL:P3D
CALSCALE:GREGORIAN
BEGIN:VEVENT
DTSTART;VALUE=DATE:20191101
DTEND;VALUE=DATE:20191111
TRANSP:TRANSPARENT
X-MICROSOFT-CDO-ALLDAYEVENT:TRUE
SUMMARY:Dine Around The Lakes
DESCRIPTION:Walworth County's restaurant week is back for its 6th year! This celebration of the local dining scene will feature 20 restaurants county-wide. Participating restaurants will offer a unique three-course menu for lunch and/or dinner - available only during the Dine Around The Lakes. All menus will be prix fixe (fixed price) with lunch menus ranging from $10-15 and dinner menus ranging from $20-30. More information on dinearoundthelakes.com Restaurants: 240 West at The Abbey Resort\, Baker House\, The Black Sheep\, Cafe Calamari\, Crafted Americana at The Ridge Hotel\, Fiddlesticks Bistro\, Fire2Fork\, Flat Iron Tap\, Frontier Restaurant at Lake Lawn Resort\, Grand Cafe at Grand Geneva Resort\, Grandview Restaurant at The Geneva Inn\, Harpoon Willie's\, Hunt Club Steakhouse\, PIER 290\, Red Geranium Restaurant\, Ristorante Brissago at Grand Geneva Resort\, Royal Oak Farm Country Kitchen\, Stillwater Coffee Company\, The Trout House\, and Waterfront at The Abbey Resort.
X-ALT-DESC;FMTTYPE=text/html:Walworth County&#39\;s restaurant week is back for its 6th year! This celebration of the local dining scene will feature 20 restaurants county-wide. Participating restaurants will offer a unique three-course menu for lunch and/or dinner - available only during the Dine Around The Lakes. All menus will be prix fixe (fixed price) with lunch menus ranging from $10-15 and dinner menus ranging from $20-30. More information on dinearoundthelakes.com Restaurants: 240 West at The Abbey Resort\, Baker House\, The Black Sheep\, Cafe Calamari\, Crafted Americana at The Ridge Hotel\, Fiddlesticks Bistro\, Fire2Fork\, Flat Iron Tap\, Frontier Restaurant at Lake Lawn Resort\, Grand Cafe at Grand Geneva Resort\, Grandview Restaurant at The Geneva Inn\, Harpoon Willie&#39\;s\, Hunt Club Steakhouse\, PIER 290\, Red Geranium Restaurant\, Ristorante Brissago at Grand Geneva Resort\, Royal Oak Farm Country Kitchen\, Stillwater Coffee Company\, The Trout House\, and Waterfront at The Abbey Resort.
LOCATION:Throughout Walworth County
UID:e.2059.11266
SEQUENCE:3
DTSTAMP:20260420T055303Z
URL:https://business.elkhornchamber.com/events/details/dine-around-the-lakes-11-01-2019-11266
END:VEVENT

END:VCALENDAR
