BEGIN:VCALENDAR
VERSION:2.0
PRODID:-//ChamberMaster//Event Calendar 2.0//EN
METHOD:PUBLISH
X-PUBLISHED-TTL:P3D
REFRESH-INTERVAL:P3D
CALSCALE:GREGORIAN
BEGIN:VEVENT
DTSTART:20170119T143000Z
DTEND:20170119T180000Z
X-MICROSOFT-CDO-ALLDAYEVENT:FALSE
SUMMARY:Dementia Friendly-Train the Trainers
DESCRIPTION:Train the Trainers to train their employees and staff:\n\nSpace is Limited- Reservations Required.\n\nFor additional information about employee training:\n\nEric & Bernadette Russow- Dementia Friendly Community Elkhorn\n\n262-320-7325
X-ALT-DESC;FMTTYPE=text/html:Train the Trainers to train their employees and staff:<br />\nSpace is Limited- Reservations Required.<br />\nFor additional information about employee training:<br />\nEric &amp\; Bernadette Russow- Dementia Friendly Community Elkhorn<br />\n262-320-7325<br />\n&nbsp\;
LOCATION:Peoples Bank 837 N. Wisconsin St Elkhorn\, WI
UID:e.2059.4629
SEQUENCE:3
DTSTAMP:20260423T123417Z
URL:https://business.elkhornchamber.com/events/details/dementia-friendly-train-the-trainers-4629
END:VEVENT

END:VCALENDAR
