BEGIN:VCALENDAR
VERSION:2.0
PRODID:-//ChamberMaster//Event Calendar 2.0//EN
METHOD:PUBLISH
X-PUBLISHED-TTL:P3D
REFRESH-INTERVAL:P3D
CALSCALE:GREGORIAN
BEGIN:VEVENT
DTSTART:20161027T193000Z
DTEND:20161027T213000Z
X-MICROSOFT-CDO-ALLDAYEVENT:FALSE
SUMMARY:Dealing with Dementia
DESCRIPTION:You are cordially invited to attend a showing of the documentary "Dealing with Dementia" filmed by WisconsinEye. The program will include episodes from this series showing the increasing concerns an needs pertaining to the growing numbers of individuals experiencing Alzheimer's and related dementia in the State of Wisconsin. This event will focus on the Dementia Friendly initiative happening throughout the State\, the community of Elkhorn and Walworth County. Come and meet representatives from agencies/businesses in Elkhorn which have gone through training and are receiving designation as "Dementia Friendly". The group includes: Associated Bank\, Matheson Memorial Library\, VIP Services\, Sp. Patrick's Catholic Church and the Elkhorn Police Department.\n\nCome and learn what it means to be "Dementia Friendly" and the importance it has for our community. Also hear about upcoming training programs for our community.\n\n\n\nThis program is sponsored by the Walworth County Aging Network.
X-ALT-DESC;FMTTYPE=text/html:You are cordially invited to attend a showing of the documentary &quot\;Dealing with Dementia&quot\; filmed by WisconsinEye. The program will include episodes from this series showing the increasing concerns an needs pertaining to the growing numbers of individuals experiencing Alzheimer&#39\;s and related dementia in the State of Wisconsin. This event will focus on the Dementia Friendly initiative happening throughout the State\, the community of Elkhorn and Walworth County. Come and meet representatives from agencies/businesses in Elkhorn which have gone through training and are receiving designation as &quot\;Dementia Friendly&quot\;. The group includes: Associated Bank\, Matheson Memorial Library\, VIP Services\, Sp. Patrick&#39\;s Catholic Church and the Elkhorn Police Department.<br />\nCome and learn what it means to be &quot\;Dementia Friendly&quot\; and the importance it has for our community. Also hear about upcoming training programs for our community.<br />\n<br />\nThis program is sponsored by the Walworth County Aging Network.
LOCATION:Peoples Bank 837 N. Wisconsin St Elkhorn\, Wi 53121
UID:e.2059.4556
SEQUENCE:3
DTSTAMP:20260423T184924Z
URL:https://business.elkhornchamber.com/events/details/dealing-with-dementia-4556
END:VEVENT

END:VCALENDAR
