BEGIN:VCALENDAR
VERSION:2.0
PRODID:-//ChamberMaster//Event Calendar 2.0//EN
METHOD:PUBLISH
X-PUBLISHED-TTL:P3D
REFRESH-INTERVAL:P3D
CALSCALE:GREGORIAN
BEGIN:VEVENT
DTSTART:20190602T000000Z
DTEND:20190602T030000Z
X-MICROSOFT-CDO-ALLDAYEVENT:FALSE
SUMMARY:Date Night! Ballroom Dance
DESCRIPTION:Bring your dancing shoes\, and wear comfortable dancing clothes for a fun evening of music and dancing! Whether you are just learning the basics or have been dancing for years\, here is your chance to enjoy an evening of exciting music and ballroom dance syles with DJ Richard.
X-ALT-DESC;FMTTYPE=text/html:Bring your dancing shoes\, and wear comfortable dancing clothes for a fun evening of music and dancing! Whether you are just learning the basics or have been dancing for years\, here is your chance to enjoy an evening of exciting music and ballroom dance syles with DJ Richard.&nbsp\;
LOCATION:Elkhorn Recreation Center 200 Devendorf Street Elkhorn\, WI
UID:e.2059.10715
SEQUENCE:3
DTSTAMP:20260421T032656Z
URL:https://business.elkhornchamber.com/events/details/date-night-ballroom-dance-10715
END:VEVENT

END:VCALENDAR
