BEGIN:VCALENDAR
VERSION:2.0
PRODID:-//ChamberMaster//Event Calendar 2.0//EN
METHOD:PUBLISH
X-PUBLISHED-TTL:P3D
REFRESH-INTERVAL:P3D
CALSCALE:GREGORIAN
BEGIN:VEVENT
DTSTART:20150620T110000Z
DTEND:20150620T153000Z
X-MICROSOFT-CDO-ALLDAYEVENT:FALSE
SUMMARY:Dairy Breakfast
DESCRIPTION:Come enjoy delicious pancakes\, sausage\, eggs\, milk\, juice and coffee at the Walworth County Farm Bureau Dairy Breakfast held at the Walworth County Fairgrounds. Explore different crafters\, tour a dairy farm\, see live animals and more.
X-ALT-DESC;FMTTYPE=text/html:Come enjoy delicious pancakes\, sausage\, eggs\, milk\, juice and coffee at the Walworth County Farm Bureau Dairy Breakfast held at the Walworth County Fairgrounds. Explore different crafters\, tour a dairy farm\, see live animals and more.
LOCATION:Walworth County Fairgrounds 411 E. Court St.\, Elkhorn
UID:e.2059.1136
SEQUENCE:3
DTSTAMP:20260424T192247Z
URL:https://business.elkhornchamber.com/events/details/dairy-breakfast-06-20-2015-1136
END:VEVENT

END:VCALENDAR
