BEGIN:VCALENDAR
VERSION:2.0
PRODID:-//ChamberMaster//Event Calendar 2.0//EN
METHOD:PUBLISH
X-PUBLISHED-TTL:P3D
REFRESH-INTERVAL:P3D
CALSCALE:GREGORIAN
BEGIN:VEVENT
DTSTART:20180203T000000Z
DTEND:20180203T030000Z
X-MICROSOFT-CDO-ALLDAYEVENT:FALSE
SUMMARY:Daddy & Daughter Dance
DESCRIPTION:Your little girl will never forget how special she felt\, spending an extraordinary evening of dinner\, dancing\, refreshments and fun! Show her she is still the special "little lady" in your life.\n\n\n\nFriday\, February 2\n\n6:00 PM - 9:00 PM\n\n$25 Per Person\, Dinner Included\n\nHarbor Ballroom\, The Abbey Resort\, Fontana\n\n\n\nRegistration Opens through the Elkhorn Recreation Department December 14: www.cityofelkhorn.org\n\nRegistration Deadline: January 20\n\nLimited space available!  No walk-ins accepted.\n\nProfessional portraits will be available for additional fee.\n\nOptions available for discounted up-do's and makeup in local salons.  Please call the Rec Center at 262-741-5114 for more information.
X-ALT-DESC;FMTTYPE=text/html:Your little girl will never forget how special she felt\, spending an extraordinary evening of dinner\, dancing\, refreshments and fun! Show her she is still the special &quot\;little lady&quot\; in your life.<br />\n<br />\nFriday\, February 2<br />\n6:00 PM - 9:00 PM<br />\n$25 Per Person\, Dinner Included<br />\nHarbor Ballroom\, The Abbey Resort\, Fontana<br />\n<br />\nRegistration Opens through the Elkhorn Recreation Department December 14: <a href="http://www.cityofelkhorn.org">www.cityofelkhorn.org</a><br />\nRegistration Deadline: January 20<br />\nLimited space available!&nbsp\; No walk-ins accepted.<br />\nProfessional portraits will be available for additional fee.<br />\nOptions available for discounted up-do&#39\;s and makeup in local salons.&nbsp\; Please call the Rec Center at 262-741-5114 for more information.
LOCATION:The Abbey Resort\, Fontana Harbor Ballroom
UID:e.2059.7362
SEQUENCE:3
DTSTAMP:20260422T132759Z
URL:https://business.elkhornchamber.com/events/details/daddy-daughter-dance-02-02-2018-7362
END:VEVENT

END:VCALENDAR
