BEGIN:VCALENDAR
VERSION:2.0
PRODID:-//ChamberMaster//Event Calendar 2.0//EN
METHOD:PUBLISH
X-PUBLISHED-TTL:P3D
REFRESH-INTERVAL:P3D
CALSCALE:GREGORIAN
BEGIN:VEVENT
DTSTART:20160619T160000Z
DTEND:20160619T230000Z
X-MICROSOFT-CDO-ALLDAYEVENT:FALSE
SUMMARY:Dad's Swim & Eat Free @ Sunset Pool
DESCRIPTION:Dad's Swim & Eat Free at Sunset Pool! Happy Father's Day Dad's! Pick a hot dog or a slice of pizza.
X-ALT-DESC;FMTTYPE=text/html:Dad&#39\;s Swim &amp\; Eat Free at Sunset Pool! Happy Father&#39\;s Day Dad&#39\;s! Pick a hot dog or a slice of pizza.
LOCATION:Sunset Pool in Elkhorn Located on Devendorf St\, West Centrailia St and Park Avenue.
UID:e.2059.3515
SEQUENCE:3
DTSTAMP:20260423T235029Z
URL:https://business.elkhornchamber.com/events/details/dad-s-swim-eat-free-sunset-pool-06-19-2016-3515
END:VEVENT

END:VCALENDAR
