BEGIN:VCALENDAR
VERSION:2.0
PRODID:-//ChamberMaster//Event Calendar 2.0//EN
METHOD:PUBLISH
X-PUBLISHED-TTL:P3D
REFRESH-INTERVAL:P3D
CALSCALE:GREGORIAN
BEGIN:VEVENT
DTSTART:20160708T200000Z
DTEND:20160708T230000Z
X-MICROSOFT-CDO-ALLDAYEVENT:FALSE
SUMMARY:Customer Appreciation Day~Peoples Bank
DESCRIPTION:Let us say "Thank You" at our Customer Appreciation Day!\n\nPlease join us for food and fun. It is our chance to thank you for your continued loyality and support.\n\nWe look forward to seeing you there.
X-ALT-DESC;FMTTYPE=text/html:<span style="color:#FF8C00\;"><span style="font-size: 18px\;"><strong>Let us say &quot\;Thank You&quot\; at our Customer Appreciation Day!</strong></span></span><br />\nPlease join us for food and fun. It is our chance to thank you for your continued loyality and support.<br />\n<span style="color:#FF8C00\;"><span style="font-size: 18px\;"><strong>We look forward to seeing you there.</strong></span></span>
LOCATION:Peoples Bank Parking Lot 837 N. Wisconsin St. Elkhorn\, WI
UID:e.2059.4458
SEQUENCE:3
DTSTAMP:20260423T220909Z
URL:https://business.elkhornchamber.com/events/details/customer-appreciation-day-peoples-bank-07-08-2016-4458
END:VEVENT

END:VCALENDAR
