BEGIN:VCALENDAR
VERSION:2.0
PRODID:-//ChamberMaster//Event Calendar 2.0//EN
METHOD:PUBLISH
X-PUBLISHED-TTL:P3D
REFRESH-INTERVAL:P3D
CALSCALE:GREGORIAN
BEGIN:VEVENT
DTSTART:20191107T013000Z
DTEND:20191107T043000Z
X-MICROSOFT-CDO-ALLDAYEVENT:FALSE
SUMMARY:Cultural Affairs & Contemporary Issues presents 1984
DESCRIPTION:Aquila theatre Company explores one of the most thought-provoking pieces of literature ever created as they present George Orwell's science fiction classic\, 1984. Big Brother is sure to be watching this cautionary tale performed by one of the nation's premiere theatre companies.
X-ALT-DESC;FMTTYPE=text/html:Aquila theatre Company explores one of the most thought-provoking pieces of literature ever created as they present George Orwell&#39\;s science fiction classic\, 1984. Big Brother is sure to be watching this cautionary tale performed by one of the nation&#39\;s premiere theatre companies.
LOCATION:Young Auditorium 930 West Main Street\, Whitewater
UID:e.2059.10996
SEQUENCE:3
DTSTAMP:20260420T055304Z
URL:https://business.elkhornchamber.com/events/details/cultural-affairs-contemporary-issues-presents-1984-10996
END:VEVENT

END:VCALENDAR
