BEGIN:VCALENDAR
VERSION:2.0
PRODID:-//ChamberMaster//Event Calendar 2.0//EN
METHOD:PUBLISH
X-PUBLISHED-TTL:P3D
REFRESH-INTERVAL:P3D
CALSCALE:GREGORIAN
BEGIN:VEVENT
DTSTART:20171030T150000Z
DTEND:20171030T220000Z
X-MICROSOFT-CDO-ALLDAYEVENT:FALSE
SUMMARY:Craft-O-Rama
DESCRIPTION:Need something to do on a day off school? Drop by the Storyroom in the library for crafting fun! Just sign in and start creating!
X-ALT-DESC;FMTTYPE=text/html:<span style="background-color:transparent\; color:rgb(0\, 0\, 0)\; font-family:arial\; font-size:11pt">Need something to do on a day off school? Drop by the Storyroom in the library&nbsp\;</span><span style="background-color:transparent\; color:rgb(0\, 0\, 0)\; font-family:arial\; font-size:11pt">for crafting fun! Just sign in and start creating!</span>
LOCATION:Matheson Memorial Library
UID:e.2059.6978
SEQUENCE:3
DTSTAMP:20260422T200910Z
URL:https://business.elkhornchamber.com/events/details/craft-o-rama-10-30-2017-6978
END:VEVENT

END:VCALENDAR
