BEGIN:VCALENDAR
VERSION:2.0
PRODID:-//ChamberMaster//Event Calendar 2.0//EN
METHOD:PUBLISH
X-PUBLISHED-TTL:P3D
REFRESH-INTERVAL:P3D
CALSCALE:GREGORIAN
BEGIN:VEVENT
DTSTART:20180430T150000Z
DTEND:20180430T220000Z
X-MICROSOFT-CDO-ALLDAYEVENT:FALSE
SUMMARY:Craft-O-Rama
DESCRIPTION:Looking for something to do on a no-school day? Drop by the Storyroom for Craft-o-rama! Crafts\, art supplies\, and more will be available from 10am to 5pm. All ages and abilities are welcome to drop in and create something.
X-ALT-DESC;FMTTYPE=text/html:<p><span style="background-color:transparent\; font-family:arial\; font-size:11pt">Looking for something to do on a no-school day? Drop by the Storyroom for Craft-o-rama! Crafts\, art supplies\, and more will be available from 10am to 5pm.&nbsp\;</span><span style="background-color:transparent\; font-family:arial\; font-size:11pt">All ages and abilities are welcome to drop in and create something.</span></p>\n
LOCATION:Matheson Memorial Library
UID:e.2059.7601
SEQUENCE:3
DTSTAMP:20260422T102535Z
URL:https://business.elkhornchamber.com/events/details/craft-o-rama-04-30-2018-7601
END:VEVENT

END:VCALENDAR
