BEGIN:VCALENDAR
VERSION:2.0
PRODID:-//ChamberMaster//Event Calendar 2.0//EN
METHOD:PUBLISH
X-PUBLISHED-TTL:P3D
REFRESH-INTERVAL:P3D
CALSCALE:GREGORIAN
BEGIN:VEVENT
DTSTART:20160621T160000Z
DTEND:20160621T183000Z
X-MICROSOFT-CDO-ALLDAYEVENT:FALSE
SUMMARY:Cookout For a Cause
DESCRIPTION:Atrium Senior Living of Williams Bay at Sherwood Lodge is hosting its 4th Annual Cookout for a Cause! For $5 you will receive your choice of brat\, hamburger\, or hot dog\, a bag of chips\, a soda and a cookie. All proceeds will go to the Williams Bay Police Department.
X-ALT-DESC;FMTTYPE=text/html:Atrium Senior Living of Williams Bay at Sherwood Lodge is hosting its 4th Annual Cookout for a Cause! For $5 you will receive your choice of brat\, hamburger\, or hot dog\, a bag of chips\, a soda and a cookie. All proceeds will go to the Williams Bay Police Department.
LOCATION:Atrium Senior Living of Williams Bay at Sherwood Lodge 116 Cherry St. Williams Bay\, 53191
UID:e.2059.3464
SEQUENCE:3
DTSTAMP:20260423T234204Z
URL:https://business.elkhornchamber.com/events/details/cookout-for-a-cause-06-21-2016-3464
END:VEVENT

END:VCALENDAR
